BEGIN:VCALENDAR
VERSION:2.0
PRODID:-//Die Glühwürmchen - ECPv6.15.20//NONSGML v1.0//EN
CALSCALE:GREGORIAN
METHOD:PUBLISH
X-WR-CALNAME:Die Glühwürmchen
X-ORIGINAL-URL:https://die-gluehwuermchen.info
X-WR-CALDESC:Veranstaltungen für Die Glühwürmchen
REFRESH-INTERVAL;VALUE=DURATION:PT1H
X-Robots-Tag:noindex
X-PUBLISHED-TTL:PT1H
BEGIN:VTIMEZONE
TZID:Europe/Berlin
BEGIN:DAYLIGHT
TZOFFSETFROM:+0100
TZOFFSETTO:+0200
TZNAME:CEST
DTSTART:20220327T010000
END:DAYLIGHT
BEGIN:STANDARD
TZOFFSETFROM:+0200
TZOFFSETTO:+0100
TZNAME:CET
DTSTART:20221030T010000
END:STANDARD
BEGIN:DAYLIGHT
TZOFFSETFROM:+0100
TZOFFSETTO:+0200
TZNAME:CEST
DTSTART:20230326T010000
END:DAYLIGHT
BEGIN:STANDARD
TZOFFSETFROM:+0200
TZOFFSETTO:+0100
TZNAME:CET
DTSTART:20231029T010000
END:STANDARD
BEGIN:DAYLIGHT
TZOFFSETFROM:+0100
TZOFFSETTO:+0200
TZNAME:CEST
DTSTART:20240331T010000
END:DAYLIGHT
BEGIN:STANDARD
TZOFFSETFROM:+0200
TZOFFSETTO:+0100
TZNAME:CET
DTSTART:20241027T010000
END:STANDARD
END:VTIMEZONE
BEGIN:VEVENT
DTSTART;TZID=Europe/Berlin:20231031T200000
DTEND;TZID=Europe/Berlin:20231031T220000
DTSTAMP:20260420T092107
CREATED:20220114T072127Z
LAST-MODIFIED:20230901T113446Z
UID:747-1698782400-1698789600@die-gluehwuermchen.info
SUMMARY:Von hysterischen Ziegen und Nachtgespenstern
DESCRIPTION:Eine verrückte Reise in die 20er Jahre \nOnline-Tickets im Vorverkauf\n  \nHysterisch\, originell und mit viel Witz und Humor bleibt bei den Glühwürmchen und Hanns Buschmann kein Auge trocken! \nOb für Veronica der Lenz anbricht und statt Spargel doch eher der Bauch wächst? Bei den Glühwürmchen wird so mancher Originaltext aus den goldenen 20 er Jahren auf die Schippe genommen. Und „wegen Emil seiner unanständigen Lust“ werden sich die Damen auch nicht das Fett aus den Oberschenkeln kratzen lassen. \n„…Dabei belassen es die MusikerInnen rund um Elke Buschmann nicht einfach. Trude Herrs Neuinterpretation: „Ich will lieber Schokolade\, mit Marzipan und auch Krokant“ oder (Mister Sandman) “Hallo Köbes\, bräng mer e Kölsch…“Diese Umdeutungen möbeln die Songs auf und sorgen für viele Lacher“ (Kölner Stadtanzeiger) nach Ihrem Auftritt im legendären Senftöpfchen Theater in Köln. \nDer bekannte Kölner Vortragskünstler Hanns Buschmann begeistert mit seinem Ausflug in die Kabarett-Geschichte und schlüpft gekonnt in die Rolle des legendären 20 er Jahre Wintergarten-Stars Otto Reutter. Weiterhin sind Peter Igelhoff und Holländer mit von der Partie: Tanten werden geschlachtet und Nachtgespenster treiben ihr Unwesen: „Ach freue Dich dass Du’s nicht kennst… und gehe nicht ins Senftöpfchen bei Nacht!“ \nSeine Couplets bilden ein pointiertes Gegenstück zu den männerkritischen\, leicht hysterischen Chansons der Damen. Seine augenzwinkernde Empfehlung: „Nehm s‘en Alten !“ wird vom Publikum durch herzhaftes Lachen und nicht enden wollendem Applaus honoriert. \nAmüsanter kann man einen Abend kaum verbringen! \nMit Titeln wie: \n\nLass mich dein Badewasser schlürfen\nIch will lieber Schokolade\nDer Onkel Doktor hat gesagt\, ich darf nicht küssen\nBenjamin\, ich hab‘ nichts anzuzieh’n\nIch hab‘ meine Tante geschlachtet\nLiebling\, mein Herz lässt Dich grüßen\nDas Nachtgespenst von P. Igelhoff\nDer Wind hat mir ein Lied erzählt\nWegen Emil seiner unanständigen Lust
URL:https://die-gluehwuermchen.info/termin/von-hysterischen-ziegen-und-nachtgespenstern-31-10-2023/
LOCATION:Schauplatz Langenfeld\, Hauptstraße 129\, Langenfeld\, NRW\, 40764\, Deutschland
ATTACH;FMTTYPE=image/jpeg:https://die-gluehwuermchen.info/wp-content/uploads/2020/09/von-hysterischen-ziegen-und-nachtgespenstern-die-gluehwuermchen-2200-1838.jpg
END:VEVENT
END:VCALENDAR