BEGIN:VCALENDAR
VERSION:2.0
PRODID:-//Die Glühwürmchen - ECPv6.15.20//NONSGML v1.0//EN
CALSCALE:GREGORIAN
METHOD:PUBLISH
X-WR-CALNAME:Die Glühwürmchen
X-ORIGINAL-URL:https://die-gluehwuermchen.info
X-WR-CALDESC:Veranstaltungen für Die Glühwürmchen
REFRESH-INTERVAL;VALUE=DURATION:PT1H
X-Robots-Tag:noindex
X-PUBLISHED-TTL:PT1H
BEGIN:VTIMEZONE
TZID:Europe/Berlin
BEGIN:DAYLIGHT
TZOFFSETFROM:+0100
TZOFFSETTO:+0200
TZNAME:CEST
DTSTART:20210328T010000
END:DAYLIGHT
BEGIN:STANDARD
TZOFFSETFROM:+0200
TZOFFSETTO:+0100
TZNAME:CET
DTSTART:20211031T010000
END:STANDARD
BEGIN:DAYLIGHT
TZOFFSETFROM:+0100
TZOFFSETTO:+0200
TZNAME:CEST
DTSTART:20220327T010000
END:DAYLIGHT
BEGIN:STANDARD
TZOFFSETFROM:+0200
TZOFFSETTO:+0100
TZNAME:CET
DTSTART:20221030T010000
END:STANDARD
BEGIN:DAYLIGHT
TZOFFSETFROM:+0100
TZOFFSETTO:+0200
TZNAME:CEST
DTSTART:20230326T010000
END:DAYLIGHT
BEGIN:STANDARD
TZOFFSETFROM:+0200
TZOFFSETTO:+0100
TZNAME:CET
DTSTART:20231029T010000
END:STANDARD
END:VTIMEZONE
BEGIN:VEVENT
DTSTART;TZID=Europe/Berlin:20220902T193000
DTEND;TZID=Europe/Berlin:20220902T220000
DTSTAMP:20260421T073432
CREATED:20220813T063029Z
LAST-MODIFIED:20220813T063205Z
UID:790-1662147000-1662156000@die-gluehwuermchen.info
SUMMARY:Von hysterischen Ziegen und Nachtgespenstern
DESCRIPTION:Eine verrückte Reise in die 20er Jahre \nHysterisch\, originell und mit viel Witz und Humor bleibt bei den Glühwürmchen und Hanns Buschmann kein Auge trocken! \nOb für Veronica der Lenz anbricht und statt Spargel doch eher der Bauch wächst? Bei den Glühwürmchen wird so mancher Originaltext aus den goldenen 20 er Jahren auf die Schippe genommen. Und „wegen Emil seiner unanständigen Lust“ werden sich die Damen auch nicht das Fett aus den Oberschenkeln kratzen lassen. \n„…Dabei belassen es die MusikerInnen rund um Elke Buschmann nicht einfach. Trude Herrs Neuinterpretation: „Ich will lieber Schokolade\, mit Marzipan und auch Krokant“ oder (Mister Sandman) “Hallo Köbes\, bräng mer e Kölsch…“Diese Umdeutungen möbeln die Songs auf und sorgen für viele Lacher“ (Kölner Stadtanzeiger) nach Ihrem Auftritt im legendären Senftöpfchen Theater in Köln. \nDer bekannte Kölner Vortragskünstler Hanns Buschmann begeistert mit seinem Ausflug in die Kabarett-Geschichte und schlüpft gekonnt in die Rolle des legendären 20 er Jahre Wintergarten-Stars Otto Reutter. Weiterhin sind Peter Igelhoff und Holländer mit von der Partie: Tanten werden geschlachtet und Nachtgespenster treiben ihr Unwesen: „Ach freue Dich dass Du’s nicht kennst… und gehe nicht ins Senftöpfchen bei Nacht!“ \nSeine Couplets bilden ein pointiertes Gegenstück zu den männerkritischen\, leicht hysterischen Chansons der Damen. Seine augenzwinkernde Empfehlung: „Nehm s‘en Alten !“ wird vom Publikum durch herzhaftes Lachen und nicht enden wollendem Applaus honoriert. \nAmüsanter kann man einen Abend kaum verbringen! \nMit Titeln wie: \n\nLass mich dein Badewasser schlürfen\nIch will lieber Schokolade\nDer Onkel Doktor hat gesagt\, ich darf nicht küssen\nBenjamin\, ich hab‘ nichts anzuzieh’n\nIch hab‘ meine Tante geschlachtet\nLiebling\, mein Herz lässt Dich grüßen\nDas Nachtgespenst von P. Igelhoff\nDer Wind hat mir ein Lied erzählt\nWegen Emil seiner unanständigen Lust
URL:https://die-gluehwuermchen.info/termin/von-hysterischen-ziegen-und-nachtgespenstern-volksbpuehne-rudolfplatz/
LOCATION:Volksbühne am Rudolfplatz\, Aachener Straße 5\, Köln\, NRW\, 50674\, Deutschland
ATTACH;FMTTYPE=image/jpeg:https://die-gluehwuermchen.info/wp-content/uploads/2020/09/von-hysterischen-ziegen-und-nachtgespenstern-die-gluehwuermchen-2200-1838.jpg
ORGANIZER;CN="Die Gl%C3%BChw%C3%BCrmchen":MAILTO:mail@elke-buschmann.de
END:VEVENT
BEGIN:VEVENT
DTSTART;TZID=Europe/Berlin:20220904T180000
DTEND;TZID=Europe/Berlin:20220904T203000
DTSTAMP:20260421T073432
CREATED:20220813T063533Z
LAST-MODIFIED:20220813T094910Z
UID:793-1662314400-1662323400@die-gluehwuermchen.info
SUMMARY:Ach\, wie mich das aufregt!
DESCRIPTION:Exzentrische Chansons\, Schlager und Geschichten aus den verrückten 20 er Jahren. \nVoller Lebenslust und Leidenschaft ! \n„Aufregend muss ER sein\, intelligent &  gebildet\, selbstverständlich gut aussehend\, sportlich muskulös…und – kochen können sollte er natürlich auch!“ \n„Schlank muss SIE sein\, ein Pfund zu wenig und sie wär zu mager…!“ \nAber die Realität sieht zumeist leider anders aus\, wie anders\, erfahren Sie in dem amüsanten Programm von den Glühwürmchen & Hanns Buschmann: \nIdeal & Wirklichkeit \nHysterisch\, originell und mit viel Witz und Humor bleibt bei dem Swing-Ensemble: Die Glühwürmchen & Hanns Buschmann kein Auge trocken!\nDer bekannte Kölner Vortragskünstler Hanns Buschmann begeistert mit seinem Ausflug in die Kabarett-Geschichte und präsentiert mit sonorer Stimme und unvergleichlichem schauspielerischem Talent Couplets und Chansons von Igelhoff\, Holländer\,Tucholsky uvm.. \nSeine Couplets bilden ein pointiertes Gegenstück zu den männerkritischen\, frechen\, frivolen Chansons der Damen. \nEr heißt Waldemar (-) und kocht wunderbar. Von Frau Schmitz bis zum Thermomix. Bei den Glühwürmchen wird so mancher Originaltext aus den goldenen 20 er Jahren auf die Schippe genommen. Mit noch Druck frischer\, feuchter Tinte wird auch in ihrem neuen Programm wieder fröhlich einjekölscht.
URL:https://die-gluehwuermchen.info/termin/ach-wie-mich-das-aufregt-klosterkirche-lennep/
LOCATION:Kulturzentrum Klosterkirche (Lennep)\, Klostergasse 8\, Remscheid\, NRW\, 42897\, Deutschland
ATTACH;FMTTYPE=image/jpeg:https://die-gluehwuermchen.info/wp-content/uploads/2020/09/die-gluehwuermchen-auch-wie-mich-das-aufregt.jpg
ORGANIZER;CN="Die Gl%C3%BChw%C3%BCrmchen":MAILTO:mail@elke-buschmann.de
END:VEVENT
BEGIN:VEVENT
DTSTART;TZID=Europe/Berlin:20220918T180000
DTEND;TZID=Europe/Berlin:20220918T203000
DTSTAMP:20260421T073432
CREATED:20220813T063954Z
LAST-MODIFIED:20220813T095137Z
UID:795-1663524000-1663533000@die-gluehwuermchen.info
SUMMARY:Otto Reutter: "In 50 Jahren ist alles vorbei!"
DESCRIPTION:Ein Soloprogramm von Hanns Buschmann: „Otto Reutter: „In 50 Jahren ist alles vorbei!“
URL:https://die-gluehwuermchen.info/termin/otto-reutter-in-50-jahren-ist-alles-vorbei-zeltkirche-kippekausen/
LOCATION:Zeltkirche Kippekausen\, Am Rittersteg 1\, Bergisch Gladbach\, NRW\, 51427\, Deutschland
ATTACH;FMTTYPE=image/jpeg:https://die-gluehwuermchen.info/wp-content/uploads/2022/08/WhatsApp-Image-2022-08-13-at-09.50.42.jpeg
ORGANIZER;CN="Die Gl%C3%BChw%C3%BCrmchen":MAILTO:mail@elke-buschmann.de
END:VEVENT
BEGIN:VEVENT
DTSTART;TZID=Europe/Berlin:20220925T110000
DTEND;TZID=Europe/Berlin:20220925T133000
DTSTAMP:20260421T073432
CREATED:20220813T064428Z
LAST-MODIFIED:20220813T064619Z
UID:799-1664103600-1664112600@die-gluehwuermchen.info
SUMMARY:Von hysterischen Ziegen und Nachtgespenstern
DESCRIPTION:Eine verrückte Reise in die 20er Jahre \nHysterisch\, originell und mit viel Witz und Humor bleibt bei den Glühwürmchen und Hanns Buschmann kein Auge trocken! \nOb für Veronica der Lenz anbricht und statt Spargel doch eher der Bauch wächst? Bei den Glühwürmchen wird so mancher Originaltext aus den goldenen 20 er Jahren auf die Schippe genommen. Und „wegen Emil seiner unanständigen Lust“ werden sich die Damen auch nicht das Fett aus den Oberschenkeln kratzen lassen. \n„…Dabei belassen es die MusikerInnen rund um Elke Buschmann nicht einfach. Trude Herrs Neuinterpretation: „Ich will lieber Schokolade\, mit Marzipan und auch Krokant“ oder (Mister Sandman) “Hallo Köbes\, bräng mer e Kölsch…“Diese Umdeutungen möbeln die Songs auf und sorgen für viele Lacher“ (Kölner Stadtanzeiger) nach Ihrem Auftritt im legendären Senftöpfchen Theater in Köln. \nDer bekannte Kölner Vortragskünstler Hanns Buschmann begeistert mit seinem Ausflug in die Kabarett-Geschichte und schlüpft gekonnt in die Rolle des legendären 20 er Jahre Wintergarten-Stars Otto Reutter. Weiterhin sind Peter Igelhoff und Holländer mit von der Partie: Tanten werden geschlachtet und Nachtgespenster treiben ihr Unwesen: „Ach freue Dich dass Du’s nicht kennst… und gehe nicht ins Senftöpfchen bei Nacht!“ \nSeine Couplets bilden ein pointiertes Gegenstück zu den männerkritischen\, leicht hysterischen Chansons der Damen. Seine augenzwinkernde Empfehlung: „Nehm s‘en Alten !“ wird vom Publikum durch herzhaftes Lachen und nicht enden wollendem Applaus honoriert. \nAmüsanter kann man einen Abend kaum verbringen! \nMit Titeln wie: \n\nLass mich dein Badewasser schlürfen\nIch will lieber Schokolade\nDer Onkel Doktor hat gesagt\, ich darf nicht küssen\nBenjamin\, ich hab‘ nichts anzuzieh’n\nIch hab‘ meine Tante geschlachtet\nLiebling\, mein Herz lässt Dich grüßen\nDas Nachtgespenst von P. Igelhoff\nDer Wind hat mir ein Lied erzählt\nWegen Emil seiner unanständigen Lust
URL:https://die-gluehwuermchen.info/termin/von-hysterischen-ziegen-und-nachtgespenstern-kurpark-terrassen-aachen/
LOCATION:Kurpark-Terrassen Aachen\, Dammstraße 40\, Aachen\, NRW\, 52066\, Deutschland
ATTACH;FMTTYPE=image/jpeg:https://die-gluehwuermchen.info/wp-content/uploads/2020/09/von-hysterischen-ziegen-und-nachtgespenstern-die-gluehwuermchen-2200-1838.jpg
ORGANIZER;CN="Die Gl%C3%BChw%C3%BCrmchen":MAILTO:mail@elke-buschmann.de
END:VEVENT
END:VCALENDAR