BEGIN:VCALENDAR
VERSION:2.0
PRODID:-//Die Glühwürmchen - ECPv6.15.20//NONSGML v1.0//EN
CALSCALE:GREGORIAN
METHOD:PUBLISH
X-WR-CALNAME:Die Glühwürmchen
X-ORIGINAL-URL:https://die-gluehwuermchen.info
X-WR-CALDESC:Veranstaltungen für Die Glühwürmchen
REFRESH-INTERVAL;VALUE=DURATION:PT1H
X-Robots-Tag:noindex
X-PUBLISHED-TTL:PT1H
BEGIN:VTIMEZONE
TZID:Europe/Berlin
BEGIN:DAYLIGHT
TZOFFSETFROM:+0100
TZOFFSETTO:+0200
TZNAME:CEST
DTSTART:20210328T010000
END:DAYLIGHT
BEGIN:STANDARD
TZOFFSETFROM:+0200
TZOFFSETTO:+0100
TZNAME:CET
DTSTART:20211031T010000
END:STANDARD
BEGIN:DAYLIGHT
TZOFFSETFROM:+0100
TZOFFSETTO:+0200
TZNAME:CEST
DTSTART:20220327T010000
END:DAYLIGHT
BEGIN:STANDARD
TZOFFSETFROM:+0200
TZOFFSETTO:+0100
TZNAME:CET
DTSTART:20221030T010000
END:STANDARD
BEGIN:DAYLIGHT
TZOFFSETFROM:+0100
TZOFFSETTO:+0200
TZNAME:CEST
DTSTART:20230326T010000
END:DAYLIGHT
BEGIN:STANDARD
TZOFFSETFROM:+0200
TZOFFSETTO:+0100
TZNAME:CET
DTSTART:20231029T010000
END:STANDARD
END:VTIMEZONE
BEGIN:VEVENT
DTSTART;TZID=Europe/Berlin:20221217T201500
DTEND;TZID=Europe/Berlin:20221217T223000
DTSTAMP:20260421T023022
CREATED:20220813T070721Z
LAST-MODIFIED:20220813T070926Z
UID:813-1671308100-1671316200@die-gluehwuermchen.info
SUMMARY:S(w)inging Christmas - och ob Kölsch - Premiere
DESCRIPTION:(…)Die Glühwürmchen im Weihnachtsrausch ! \nAusgestattet mit Flüstertüte- und Grammophonsound zeichnen die Glühwürmchen die vergilbten Photographien der 20 er und 30 er Jahre nach und verleihen Ihnen neuen Glanz. \nLegendäre\, dreistimmig arrangierte Tonfilmschlager und fetzige Swing Nummern -Weihnachtslieder mit kölschem Text versehen\, so flimmern die Glühwürmchen über die weihnachtlichen Bühnen und setzen ein schimmerndes Highlight. \nSo besingen die Damen anstatt des kleinen grünen Kaktus den kleinen grünen Tannenboum\, für Veronika ist Zinter Klous da und Mister Sandman bringt nicht nur die Träume sondern auch die Diamanten. So manches bekannte Weihnachtslied wird fröhlich einjekölscht !\nDer bekannte Kölner Vortragskünstler Hanns Buschmann begeistert mit seinem Ausflug in die Kabarett-Geschichte und schlüpft gekonnt in die Rolle des legendären 20 er Jahre Wintergarten-Stars Otto Reutter. Seine augenzwinkernde Empfehlung: „Nehm s‘en Alten !“ wird vom Publikum durch herzhaftes Lachen und nicht enden wollendem Applaus honoriert.\nAmüsanter kann man einen Abend kaum verbringen! \nUnd lakonisch philosophisch bleibt die Feststellung\, die auch für das Jahr 2020 gilt: „In 50 Jahren ist alles vorbei!“ \nBesinnliches und „Beswingtes“ in der Weihnachtszeit:\nDeutsche/Kölsche Weihnachtslieder\, Klassik\, Oper und Swing. Mit Titeln wie: \n\nMein kleiner grüner Tannenbaum\nFiese Winterwald (Winter Wonderland auf Kölsch)\nRudolph\nCzardas von Vittorio Monti\nAbendsegen aus „Hänsel und Gretel“ v. E. Humperdinck\nDer kleine Sandmann aus „Hänsel und Gretel“ v. E. Humperdinck\nOh du mein holder Abendstern aus Tannhäuser v. R. Wagner\nBarcarole aus Hoffmanns Erzählungen\nVeronica\, Zinter Klous is da! (Kölscher Text)\nKlingeling (Jingle Bells auf Kölsch)\nLet it snow\nLast christmas\n\nWir wünschen viel Vergnügen!
URL:https://die-gluehwuermchen.info/termin/swinging-christmas-och-ob-koelsch-premiere/
LOCATION:Senftöpfchen Theater\, Große Neugasse 2-4\, Köln\, NRW\, 50667\, Deutschland
ATTACH;FMTTYPE=image/jpeg:https://die-gluehwuermchen.info/wp-content/uploads/2020/09/s-w-inging-christmas-die-gluehwuermchen-2200-1838.jpg
ORGANIZER;CN="Die Gl%C3%BChw%C3%BCrmchen":MAILTO:mail@elke-buschmann.de
END:VEVENT
END:VCALENDAR