BEGIN:VCALENDAR
VERSION:2.0
PRODID:-//Die Glühwürmchen - ECPv6.15.20//NONSGML v1.0//EN
CALSCALE:GREGORIAN
METHOD:PUBLISH
X-WR-CALNAME:Die Glühwürmchen
X-ORIGINAL-URL:https://die-gluehwuermchen.info
X-WR-CALDESC:Veranstaltungen für Die Glühwürmchen
REFRESH-INTERVAL;VALUE=DURATION:PT1H
X-Robots-Tag:noindex
X-PUBLISHED-TTL:PT1H
BEGIN:VTIMEZONE
TZID:Europe/Berlin
BEGIN:DAYLIGHT
TZOFFSETFROM:+0100
TZOFFSETTO:+0200
TZNAME:CEST
DTSTART:20220327T010000
END:DAYLIGHT
BEGIN:STANDARD
TZOFFSETFROM:+0200
TZOFFSETTO:+0100
TZNAME:CET
DTSTART:20221030T010000
END:STANDARD
BEGIN:DAYLIGHT
TZOFFSETFROM:+0100
TZOFFSETTO:+0200
TZNAME:CEST
DTSTART:20230326T010000
END:DAYLIGHT
BEGIN:STANDARD
TZOFFSETFROM:+0200
TZOFFSETTO:+0100
TZNAME:CET
DTSTART:20231029T010000
END:STANDARD
BEGIN:DAYLIGHT
TZOFFSETFROM:+0100
TZOFFSETTO:+0200
TZNAME:CEST
DTSTART:20240331T010000
END:DAYLIGHT
BEGIN:STANDARD
TZOFFSETFROM:+0200
TZOFFSETTO:+0100
TZNAME:CET
DTSTART:20241027T010000
END:STANDARD
END:VTIMEZONE
BEGIN:VEVENT
DTSTART;TZID=Europe/Berlin:20230806T180000
DTEND;TZID=Europe/Berlin:20230806T200000
DTSTAMP:20260420T123942
CREATED:20230328T181521Z
LAST-MODIFIED:20230328T181521Z
UID:849-1691344800-1691352000@die-gluehwuermchen.info
SUMMARY:Veronica Herr Lenz ist da ! - Der Lenz geht diesmal auf die Nerven (06.08.2023)
DESCRIPTION:Ein wehrhafter kleiner grüner Kaktus\, diverse Lieblinge der Frauen\, ein Bruder\, der im Tonfilm die Geräusche macht und wer eine Affäre mit Knut hat\, „der uns durch bloßes Niesen auf ein Sofa pusten kann…“ – die Glühwürmchen begeistern mit einem bunten Frühlingsstrauß an kuriosen\, amourösen Geschichten\, selbstverständlich wieder mit teils „einjekölschten“ Texten. \n4-stimmig arrangierte Chansons\, wunderbare Arrangements für 2 Violinen\, Cello\, Klarinette und Piano. Freuen Sie sich auf einen musikalischen Reigen von den goldenen 20er Jahren bis hin zum Wirtschaftswunder der 60er Jahre. \nDer bekannte Kölner Vortragskünstler hat einige Schätze aus der Grammofon-Ära ausgegraben. Er begeistert mit einem Ausflug in die Kabarett-Geschichte der 20er Jahre und präsentiert mit sonorer Stimme und unvergleichlichem schauspielerischem Talent Couplets und Chansons von Igelhoff\, Kästner\, Tucholsky Friedrich Holländer u. v. m. \nSeine Couplets bilden ein pointiertes Gegenstück zu den männerkritischen\, frechen\, frivolen Chansons der Damen. Amüsanter kann man einen Abend nicht verbringen. \nKontakt und Info: www.die-gluehwurmchen.info \nYouTube-Link zum Programm: https://youtu.be/rcazXeluwKs
URL:https://die-gluehwuermchen.info/termin/veronica-herr-lenz-ist-da-der-lenz-geht-diesmal-auf-die-nerven-06-08-2023/
LOCATION:Volksbühne am Rudolfplatz\, Aachener Straße 5\, Köln\, NRW\, 50674\, Deutschland
ORGANIZER;CN="Die Gl%C3%BChw%C3%BCrmchen":MAILTO:mail@elke-buschmann.de
END:VEVENT
END:VCALENDAR